BEGIN:VCALENDAR
VERSION:2.0
PRODID:-//ChamberMaster//Event Calendar 2.0//EN
METHOD:PUBLISH
X-PUBLISHED-TTL:P3D
REFRESH-INTERVAL:P3D
CALSCALE:GREGORIAN
BEGIN:VEVENT
DTSTART;VALUE=DATE:20251222
DTEND;VALUE=DATE:20260107
TRANSP:TRANSPARENT
X-MICROSOFT-CDO-ALLDAYEVENT:TRUE
SUMMARY:ECS Winter Break
DESCRIPTION:Winter Break Holiday for students December 22 - January 6.  Students return January 7\, 2026.\n\nStaff Winter Break December 22 - January 4\, 2026.  Staff Development January 5-6\, 2026.
X-ALT-DESC;FMTTYPE=text/html:Winter Break Holiday for students December 22 - January 6. &nbsp\;Students return January 7\, 2026.<br />\nStaff Winter Break December 22 - January 4\, 2026. &nbsp\;Staff Development January 5-6\, 2026.&nbsp\;
LOCATION:
UID:e.1618.4948
SEQUENCE:3
DTSTAMP:20260425T011148Z
URL:http://eufaulachamber.chambermaster.com/events/details/ecs-winter-break-4948
END:VEVENT

END:VCALENDAR
